BEGIN:VCALENDAR
VERSION:2.0
PRODID:-//ddaysoftware.com//NONSGML DDay.iCal 1.0//EN
BEGIN:VTIMEZONE
TZID:W. Europe Standard Time
BEGIN:STANDARD
DTSTART:20251002T030000
RRULE:FREQ=YEARLY;BYDAY=-1SU;BYHOUR=3;BYMINUTE=0;BYMONTH=10
TZNAME:W. Europe Standard Time
TZOFFSETFROM:+0200
TZOFFSETTO:+0100
END:STANDARD
BEGIN:DAYLIGHT
DTSTART:20250301T020000
RRULE:FREQ=YEARLY;BYDAY=-1SU;BYHOUR=2;BYMINUTE=0;BYMONTH=3
TZNAME:W. Europe Daylight Time
TZOFFSETFROM:+0100
TZOFFSETTO:+0200
END:DAYLIGHT
END:VTIMEZONE
BEGIN:VEVENT
CATEGORIES:Allgemein
DESCRIPTION:\n\nhttps://www.hasloch.de/aktuelles/veranstaltungen/hoasler-fr
 eitags-feierabend-treff-der-treff-fuer-jedermann-4/
DTEND:20260424T190000
DTSTAMP:20260423T023142Z
DTSTART:20260424T180000
LOCATION:Vereinsheim in der alten Schule: Am Witzpfad 1 a\, 97907 Hasloch
SEQUENCE:0
SUMMARY:Hoasler Freitags-Feierabend-Treff: Der Treff für Jedermann
UID:19298
URL:https://www.hasloch.de/aktuelles/veranstaltungen/hoasler-freitags-feier
 abend-treff-der-treff-fuer-jedermann-4/
END:VEVENT
BEGIN:VEVENT
CATEGORIES:Feiern\, Feste
DESCRIPTION:\n\nVeranstalter: Freiwillige Feuerwehr Hasselberg\n\nhttps://w
 ww.hasloch.de/aktuelles/veranstaltungen/h-freiw-feuerwehr-hasselberg-maiba
 umaufstellung/
DTEND:20260425T190000
DTSTAMP:20260423T023142Z
DTSTART:20260425T180000
LOCATION:Dorfplatz Hasselberg
SEQUENCE:0
SUMMARY:Freiw. Feuerwehr Hasselberg: Maibaumaufstellung
UID:9325
URL:https://www.hasloch.de/aktuelles/veranstaltungen/h-freiw-feuerwehr-hass
 elberg-maibaumaufstellung/
END:VEVENT
BEGIN:VEVENT
CATEGORIES:Soziales
DESCRIPTION:\n\nhttps://www.hasloch.de/aktuelles/veranstaltungen/h-cafe-fue
 r-alle-8/
DTEND:20260429T150000
DTSTAMP:20260423T023142Z
DTSTART:20260429T140000
LOCATION:ehem. Schule Hasloch: Am Witzpfad 1 a\, 97907 Hasloch
SEQUENCE:0
SUMMARY:Café für Alle
UID:8165
URL:https://www.hasloch.de/aktuelles/veranstaltungen/h-cafe-fuer-alle-8/
END:VEVENT
BEGIN:VEVENT
CATEGORIES:Feiern\, Feste
CATEGORIES:Kultur
DESCRIPTION:\n\nVeranstalter: Freiwillige Feuerwehr Hasloch\, Haslocher Car
 neval Club e.V.\n\nhttps://www.hasloch.de/aktuelles/veranstaltungen/h-frei
 w-feuerwehr-hasloch-und-hcc-maibaumaufstellung/
DTEND:20260430T190000
DTSTAMP:20260423T023142Z
DTSTART:20260430T180000
SEQUENCE:0
SUMMARY:Freiw. Feuerwehr Hasloch und HCC: Maibaumaufstellung
UID:8138
URL:https://www.hasloch.de/aktuelles/veranstaltungen/h-freiw-feuerwehr-hasl
 och-und-hcc-maibaumaufstellung/
END:VEVENT
BEGIN:VEVENT
CATEGORIES:Sport
DESCRIPTION:\n\nVeranstalter: Wanderverein Hasselberg\n\nhttps://www.hasloc
 h.de/aktuelles/veranstaltungen/h-wanderverein-hasselberg-erbsensuppenessen
 -mit-familientag/
DTEND:20260501T123000
DTSTAMP:20260423T023142Z
DTSTART:20260501T113000
LOCATION:Mehrzweckhalle/Feuerwehrhaus Hasselberg: Waldstraße\, 97907 Hassel
 berg
SEQUENCE:0
SUMMARY:Wanderverein Hasselberg: Erbsensuppenessen mit Familientag
UID:9283
URL:https://www.hasloch.de/aktuelles/veranstaltungen/h-wanderverein-hasselb
 erg-erbsensuppenessen-mit-familientag/
END:VEVENT
BEGIN:VEVENT
CATEGORIES:Allgemein
DESCRIPTION:\n\nhttps://www.hasloch.de/aktuelles/veranstaltungen/hoasler-fr
 eitags-feierabend-treff-der-treff-fuer-jedermann-5/
DTEND:20260501T190000
DTSTAMP:20260423T023142Z
DTSTART:20260501T180000
LOCATION:Vereinsheim in der alten Schule: Am Witzpfad 1 a\, 97907 Hasloch
SEQUENCE:0
SUMMARY:Hoasler Freitags-Feierabend-Treff: Der Treff für Jedermann
UID:20263
URL:https://www.hasloch.de/aktuelles/veranstaltungen/hoasler-freitags-feier
 abend-treff-der-treff-fuer-jedermann-5/
END:VEVENT
BEGIN:VEVENT
CATEGORIES:Feiern\, Feste
DESCRIPTION:\n\nVeranstalter: Siedlergemeinschaft Hasloch e.V.\n\nhttps://w
 ww.hasloch.de/aktuelles/veranstaltungen/h-siedlergemeinschaft-hasloch-frue
 hlingsfest/
DTEND:20260503T120000
DTSTAMP:20260423T023142Z
DTSTART:20260503T110000
LOCATION:Feuerwehrhaus Hasloch: Am Witzpfad 1\, 97907 Hasloch
SEQUENCE:0
SUMMARY:Siedlergemeinschaft Hasloch: Frühlingsfest
UID:9288
URL:https://www.hasloch.de/aktuelles/veranstaltungen/h-siedlergemeinschaft-
 hasloch-fruehlingsfest/
END:VEVENT
BEGIN:VEVENT
CATEGORIES:Sport
DESCRIPTION:Manfred-König-Schutzhütte\n\nVeranstalter: Wanderverein Hasselb
 erg\n\nhttps://www.hasloch.de/aktuelles/veranstaltungen/h-wanderverein-has
 selberg-muttertagsgrillen-mit-nagelkoenig/
DTEND:20260510T123000
DTSTAMP:20260423T023142Z
DTSTART:20260510T113000
SEQUENCE:0
SUMMARY:Wanderverein Hasselberg: Muttertagsgrillen mit Nagelkönig
UID:9281
URL:https://www.hasloch.de/aktuelles/veranstaltungen/h-wanderverein-hasselb
 erg-muttertagsgrillen-mit-nagelkoenig/
END:VEVENT
BEGIN:VEVENT
CATEGORIES:Senioren
DESCRIPTION:\n\nVeranstalter: Evang.-Luth. Kirchengemeinde\n\nhttps://www.h
 asloch.de/aktuelles/veranstaltungen/h-ev-luth-kirchengemeinde-seniorennach
 mittag-3/
DTEND:20260512T150000
DTSTAMP:20260423T023142Z
DTSTART:20260512T140000
LOCATION:Ev. Gemeindehaus: Spessartstr. 1\, 97907 Hasloch
SEQUENCE:0
SUMMARY:Ev.-luth. Kirchengemeinde: Seniorennachmittag
UID:9313
URL:https://www.hasloch.de/aktuelles/veranstaltungen/h-ev-luth-kirchengemei
 nde-seniorennachmittag-3/
END:VEVENT
BEGIN:VEVENT
CATEGORIES:Soziales
DESCRIPTION:\n\nhttps://www.hasloch.de/aktuelles/veranstaltungen/h-cafe-fue
 r-alle-9/
DTEND:20260513T150000
DTSTAMP:20260423T023142Z
DTSTART:20260513T140000
LOCATION:ehem. Schule Hasloch: Am Witzpfad 1 a\, 97907 Hasloch
SEQUENCE:0
SUMMARY:Café für Alle
UID:8269
URL:https://www.hasloch.de/aktuelles/veranstaltungen/h-cafe-fuer-alle-9/
END:VEVENT
BEGIN:VEVENT
CATEGORIES:Kultur
DESCRIPTION:\n\nVeranstalter: Hoasler Kerwe-G'sellschaft e.V.\n\nhttps://ww
 w.hasloch.de/aktuelles/veranstaltungen/h-hoasler-kerwe-gsellschaft-hoasler
 -kerb/
DTEND:20260525T000000
DTSTAMP:20260423T023142Z
DTSTART;VALUE=DATE:20260523
SEQUENCE:0
SUMMARY:Hoasler Kerwe-G'sellschaft: Hoasler Kerb
UID:8149
URL:https://www.hasloch.de/aktuelles/veranstaltungen/h-hoasler-kerwe-gsells
 chaft-hoasler-kerb/
END:VEVENT
BEGIN:VEVENT
CATEGORIES:Soziales
DESCRIPTION:\n\nhttps://www.hasloch.de/aktuelles/veranstaltungen/h-cafe-fue
 r-alle-22/
DTEND:20260527T150000
DTSTAMP:20260423T023142Z
DTSTART:20260527T140000
LOCATION:ehem. Schule Hasloch: Am Witzpfad 1 a\, 97907 Hasloch
SEQUENCE:0
SUMMARY:Café für Alle
UID:8275
URL:https://www.hasloch.de/aktuelles/veranstaltungen/h-cafe-fuer-alle-22/
END:VEVENT
BEGIN:VEVENT
CATEGORIES:Allgemein
CATEGORIES:Sport
DESCRIPTION:\n\nVeranstalter: Wanderverein Hasselberg\n\nhttps://www.hasloc
 h.de/aktuelles/veranstaltungen/h-wanderverein-hasselberg-waldhaus-diana-ru
 nde-um-woerth/
DTEND:20260531T140000
DTSTAMP:20260423T023142Z
DTSTART:20260531T130000
SEQUENCE:0
SUMMARY:Wanderverein Hasselberg: Waldhaus Diana - Runde um Wörth
UID:16575
URL:https://www.hasloch.de/aktuelles/veranstaltungen/h-wanderverein-hasselb
 erg-waldhaus-diana-runde-um-woerth/
END:VEVENT
BEGIN:VEVENT
CATEGORIES:Versammlungen
DESCRIPTION:\n\nVeranstalter: Freiwillige Feuerwehr Hasselberg\n\nhttps://w
 ww.hasloch.de/aktuelles/veranstaltungen/freiw-feuerwehr-hasselberg-jahresh
 auptuebung/
DTEND:20260607T103000
DTSTAMP:20260423T023142Z
DTSTART:20260607T093000
SEQUENCE:0
SUMMARY:Freiw. Feuerwehr Hasselberg: Jahreshauptübung
UID:8161
URL:https://www.hasloch.de/aktuelles/veranstaltungen/freiw-feuerwehr-hassel
 berg-jahreshauptuebung/
END:VEVENT
BEGIN:VEVENT
CATEGORIES:Senioren
DESCRIPTION:\n\nVeranstalter: Evang.-Luth. Kirchengemeinde\n\nhttps://www.h
 asloch.de/aktuelles/veranstaltungen/h-ev-luth-kirchengemeinde-seniorennach
 mittag-7/
DTEND:20260609T150000
DTSTAMP:20260423T023142Z
DTSTART:20260609T140000
LOCATION:Ev. Gemeindehaus: Spessartstr. 1\, 97907 Hasloch
SEQUENCE:0
SUMMARY:Ev.-luth. Kirchengemeinde: Seniorennachmittag
UID:9318
URL:https://www.hasloch.de/aktuelles/veranstaltungen/h-ev-luth-kirchengemei
 nde-seniorennachmittag-7/
END:VEVENT
BEGIN:VEVENT
CATEGORIES:Soziales
DESCRIPTION:\n\nhttps://www.hasloch.de/aktuelles/veranstaltungen/h-cafe-fue
 r-alle-10/
DTEND:20260610T150000
DTSTAMP:20260423T023142Z
DTSTART:20260610T140000
LOCATION:ehem. Schule Hasloch: Am Witzpfad 1 a\, 97907 Hasloch
SEQUENCE:0
SUMMARY:Café für Alle
UID:8288
URL:https://www.hasloch.de/aktuelles/veranstaltungen/h-cafe-fuer-alle-10/
END:VEVENT
BEGIN:VEVENT
CATEGORIES:Sport
DESCRIPTION:\n\nVeranstalter: Wanderverein Hasselberg\n\nhttps://www.hasloc
 h.de/aktuelles/veranstaltungen/h-wanderverein-hasselberg-klingenberg-selte
 nbachschlucht/
DTEND:20260614T140000
DTSTAMP:20260423T023142Z
DTSTART:20260614T130000
SEQUENCE:0
SUMMARY:Wanderverein Hasselberg: Klingenberg Seltenbachschlucht
UID:19094
URL:https://www.hasloch.de/aktuelles/veranstaltungen/h-wanderverein-hasselb
 erg-klingenberg-seltenbachschlucht/
END:VEVENT
BEGIN:VEVENT
CATEGORIES:Allgemein
CATEGORIES:Feiern\, Feste
DESCRIPTION:\n\nVeranstalter: Gemeindebücherei Hasloch\n\nhttps://www.haslo
 ch.de/aktuelles/veranstaltungen/buecherei-hasloch-sommersonnenwendefest/
DTEND;VALUE=DATE:20260621
DTSTAMP:20260423T023142Z
DTSTART;VALUE=DATE:20260620
LOCATION:Vereinsheim in der alten Schule: Am Witzpfad 1 a\, 97907 Hasloch
SEQUENCE:0
SUMMARY:Bücherei Hasloch: Sommersonnenwendefest
UID:21618
URL:https://www.hasloch.de/aktuelles/veranstaltungen/buecherei-hasloch-somm
 ersonnenwendefest/
END:VEVENT
BEGIN:VEVENT
CATEGORIES:Soziales
DESCRIPTION:\n\nhttps://www.hasloch.de/aktuelles/veranstaltungen/h-cafe-fue
 r-alle-11/
DTEND:20260624T150000
DTSTAMP:20260423T023142Z
DTSTART:20260624T140000
LOCATION:ehem. Schule Hasloch: Am Witzpfad 1 a\, 97907 Hasloch
SEQUENCE:0
SUMMARY:Café für Alle
UID:8292
URL:https://www.hasloch.de/aktuelles/veranstaltungen/h-cafe-fuer-alle-11/
END:VEVENT
BEGIN:VEVENT
CATEGORIES:Allgemein
DESCRIPTION:\n\nVeranstalter: Wanderverein Hasselberg\n\nhttps://www.hasloc
 h.de/aktuelles/veranstaltungen/h-wanderverein-hasselberg-bruennleswanderun
 g-mit-schoppen/
DTEND:20260628T140000
DTSTAMP:20260423T023142Z
DTSTART:20260628T130000
SEQUENCE:0
SUMMARY:Wanderverein Hasselberg: Brünnleswanderung mit Schoppen
UID:18688
URL:https://www.hasloch.de/aktuelles/veranstaltungen/h-wanderverein-hasselb
 erg-bruennleswanderung-mit-schoppen/
END:VEVENT
BEGIN:VEVENT
CATEGORIES:Allgemein
CATEGORIES:Jugend
DESCRIPTION:ANMELDUNG UND INFOS UNTER TEL. 09353 793-1501 ODER WWW.MAIN-SPE
 SSART.DE/FERIENPROGRAMM\n\nVeranstalter: Landkreis Main-Spessart\n\nhttps:
 //www.hasloch.de/aktuelles/veranstaltungen/h-kommunale-jugendarbeit-krista
 lle-zuechten/
DTEND:20260704T110000
DTSTAMP:20260423T023142Z
DTSTART:20260704T100000
LOCATION:Haseltalhalle Hasloch: Am Witzpfad 1 b\, 97907 Hasloch
SEQUENCE:0
SUMMARY:Kommunale Jugendarbeit: Kristalle züchten
UID:17940
URL:https://www.hasloch.de/aktuelles/veranstaltungen/h-kommunale-jugendarbe
 it-kristalle-zuechten/
END:VEVENT
BEGIN:VEVENT
CATEGORIES:Soziales
CATEGORIES:Senioren
DESCRIPTION:\n\nhttps://www.hasloch.de/aktuelles/veranstaltungen/h-cafe-fue
 r-alle-21/
DTEND:20260708T150000
DTSTAMP:20260423T023142Z
DTSTART:20260708T140000
LOCATION:ehem. Schule Hasloch: Am Witzpfad 1 a\, 97907 Hasloch
SEQUENCE:0
SUMMARY:Café für Alle
UID:8298
URL:https://www.hasloch.de/aktuelles/veranstaltungen/h-cafe-fuer-alle-21/
END:VEVENT
BEGIN:VEVENT
CATEGORIES:Sport
CATEGORIES:Feiern\, Feste
DESCRIPTION:\n\nVeranstalter: Turnverein "Gut Heil von 1903"\n\nhttps://www
 .hasloch.de/aktuelles/veranstaltungen/h-turnverein-gut-heil-von-1903-somme
 rfest/
DTEND;VALUE=DATE:20260712
DTSTAMP:20260423T023142Z
DTSTART;VALUE=DATE:20260711
LOCATION:Haseltalhalle Hasloch: Am Witzpfad 1 b\, 97907 Hasloch
SEQUENCE:0
SUMMARY:Turnverein "Gut Heil von 1903": Sommerfest 
UID:8274
URL:https://www.hasloch.de/aktuelles/veranstaltungen/h-turnverein-gut-heil-
 von-1903-sommerfest/
END:VEVENT
BEGIN:VEVENT
CATEGORIES:Senioren
DESCRIPTION:\n\nVeranstalter: Evang.-Luth. Kirchengemeinde\n\nhttps://www.h
 asloch.de/aktuelles/veranstaltungen/h-ev-luth-kirchengemeinde-seniorennach
 mittag-9/
DTEND:20260714T150000
DTSTAMP:20260423T023142Z
DTSTART:20260714T140000
LOCATION:Ev. Gemeindehaus: Spessartstr. 1\, 97907 Hasloch
SEQUENCE:0
SUMMARY:Ev.-Luth. Kirchengemeinde\; Seniorennachmittag
UID:16577
URL:https://www.hasloch.de/aktuelles/veranstaltungen/h-ev-luth-kirchengemei
 nde-seniorennachmittag-9/
END:VEVENT
BEGIN:VEVENT
CATEGORIES:Soziales
DESCRIPTION:\n\nhttps://www.hasloch.de/aktuelles/veranstaltungen/h-cafe-fue
 r-alle-12/
DTEND:20260722T150000
DTSTAMP:20260423T023142Z
DTSTART:20260722T140000
LOCATION:ehem. Schule Hasloch: Am Witzpfad 1 a\, 97907 Hasloch
SEQUENCE:0
SUMMARY:Café für Alle
UID:8304
URL:https://www.hasloch.de/aktuelles/veranstaltungen/h-cafe-fuer-alle-12/
END:VEVENT
BEGIN:VEVENT
CATEGORIES:Sport
DESCRIPTION:\n\nVeranstalter: Wanderverein Hasselberg\n\nhttps://www.hasloc
 h.de/aktuelles/veranstaltungen/h-wanderverein-hasselberg-feierabendwanderu
 ng-nach-schollbrunn/
DTEND:20260731T180000
DTSTAMP:20260423T023142Z
DTSTART:20260731T170000
SEQUENCE:0
SUMMARY:Wanderverein Hasselberg: Feierabendwanderung nach Schollbrunn
UID:19095
URL:https://www.hasloch.de/aktuelles/veranstaltungen/h-wanderverein-hasselb
 erg-feierabendwanderung-nach-schollbrunn/
END:VEVENT
BEGIN:VEVENT
CATEGORIES:Senioren
CATEGORIES:Kirche
DESCRIPTION:\n\nVeranstalter: Evang.-Luth. Kirchengemeinde\n\nhttps://www.h
 asloch.de/aktuelles/veranstaltungen/h-ev-luth-kirchengemeinde-seniorennach
 mittag-10/
DTEND:20260811T150000
DTSTAMP:20260423T023142Z
DTSTART:20260811T140000
LOCATION:Ev. Gemeindehaus: Spessartstr. 1\, 97907 Hasloch
SEQUENCE:0
SUMMARY:Ev.-luth. Kirchengemeinde: Seniorennachmittag
UID:19089
URL:https://www.hasloch.de/aktuelles/veranstaltungen/h-ev-luth-kirchengemei
 nde-seniorennachmittag-10/
END:VEVENT
BEGIN:VEVENT
CATEGORIES:Sport
CATEGORIES:Allgemein
DESCRIPTION:\n\nVeranstalter: Wanderverein Hasselberg\n\nhttps://www.hasloc
 h.de/aktuelles/veranstaltungen/h-wanderverein-hasselberg-genuss-wellnesswa
 nderung-mit-anmeldung/
DTEND:20260816T140000
DTSTAMP:20260423T023142Z
DTSTART:20260816T130000
SEQUENCE:0
SUMMARY:Wanderverein Hasselberg: Genuss- & Wellnesswanderung - mit Anmeldun
 g
UID:18649
URL:https://www.hasloch.de/aktuelles/veranstaltungen/h-wanderverein-hasselb
 erg-genuss-wellnesswanderung-mit-anmeldung/
END:VEVENT
BEGIN:VEVENT
CATEGORIES:Feiern\, Feste
DESCRIPTION:\n\nVeranstalter: Siedlergemeinschaft Hasloch e.V.\n\nhttps://w
 ww.hasloch.de/aktuelles/veranstaltungen/h-siedlergemeinschaft-hasloch-tage
 sfahrt-nach-ellwangen-zur-landesgartenschau/
DTEND;VALUE=DATE:20260830
DTSTAMP:20260423T023142Z
DTSTART;VALUE=DATE:20260829
SEQUENCE:0
SUMMARY:Siedlergemeinschaft Hasloch: Tagesfahrt nach Ellwangen zur Landesga
 rtenschau
UID:9290
URL:https://www.hasloch.de/aktuelles/veranstaltungen/h-siedlergemeinschaft-
 hasloch-tagesfahrt-nach-ellwangen-zur-landesgartenschau/
END:VEVENT
BEGIN:VEVENT
CATEGORIES:Allgemein
CATEGORIES:Sport
DESCRIPTION:\n\nVeranstalter: Wanderverein Hasselberg\n\nhttps://www.hasloc
 h.de/aktuelles/veranstaltungen/h-wanderverein-hasselberg-kleine-karlburg-k
 atzenturmrunde/
DTEND:20260830T140000
DTSTAMP:20260423T023142Z
DTSTART:20260830T130000
SEQUENCE:0
SUMMARY:Wanderverein Hasselberg: Kleine Karlburg Katzenturmrunde
UID:16576
URL:https://www.hasloch.de/aktuelles/veranstaltungen/h-wanderverein-hasselb
 erg-kleine-karlburg-katzenturmrunde/
END:VEVENT
BEGIN:VEVENT
CATEGORIES:Soziales
DESCRIPTION:\n\nhttps://www.hasloch.de/aktuelles/veranstaltungen/h-cafe-fue
 r-alle-13/
DTEND:20260902T150000
DTSTAMP:20260423T023142Z
DTSTART:20260902T140000
LOCATION:ehem. Schule Hasloch: Am Witzpfad 1 a\, 97907 Hasloch
SEQUENCE:0
SUMMARY:Café für Alle
UID:8309
URL:https://www.hasloch.de/aktuelles/veranstaltungen/h-cafe-fuer-alle-13/
END:VEVENT
BEGIN:VEVENT
CATEGORIES:Sport
DESCRIPTION:\n\nVeranstalter: Wanderverein Hasselberg\n\nhttps://www.hasloc
 h.de/aktuelles/veranstaltungen/h-wanderverein-hasselberg-mais-labyrinth-in
 -schweinberg/
DTEND:20260906T143000
DTSTAMP:20260423T023142Z
DTSTART:20260906T133000
SEQUENCE:0
SUMMARY:Wanderverein Hasselberg: Mais-Labyrinth in Schweinberg
UID:19093
URL:https://www.hasloch.de/aktuelles/veranstaltungen/h-wanderverein-hasselb
 erg-mais-labyrinth-in-schweinberg/
END:VEVENT
BEGIN:VEVENT
CATEGORIES:Senioren
DESCRIPTION:\n\nVeranstalter: Evang.-Luth. Kirchengemeinde\n\nhttps://www.h
 asloch.de/aktuelles/veranstaltungen/h-ev-luth-kirchengemeinde-seniorennach
 mittag-4/
DTEND:20260908T150000
DTSTAMP:20260423T023142Z
DTSTART:20260908T140000
LOCATION:Ev. Gemeindehaus: Spessartstr. 1\, 97907 Hasloch
SEQUENCE:0
SUMMARY:Ev.-luth. Kirchengemeinde: Seniorennachmittag
UID:9314
URL:https://www.hasloch.de/aktuelles/veranstaltungen/h-ev-luth-kirchengemei
 nde-seniorennachmittag-4/
END:VEVENT
BEGIN:VEVENT
CATEGORIES:Sport
DESCRIPTION:\n\nVeranstalter: Wanderverein Hasselberg\n\nhttps://www.hasloc
 h.de/aktuelles/veranstaltungen/h-wanderverein-hasselberg-forellenwanderung
 -schollbrunn/
DTEND:20260913T110000
DTSTAMP:20260423T023142Z
DTSTART:20260913T100000
SEQUENCE:0
SUMMARY:Wanderverein Hasselberg: Forellenwanderung Schollbrunn
UID:12418
URL:https://www.hasloch.de/aktuelles/veranstaltungen/h-wanderverein-hasselb
 erg-forellenwanderung-schollbrunn/
END:VEVENT
BEGIN:VEVENT
CATEGORIES:Soziales
DESCRIPTION:\n\nhttps://www.hasloch.de/aktuelles/veranstaltungen/h-cafe-fue
 r-alle-14/
DTEND:20260916T150000
DTSTAMP:20260423T023142Z
DTSTART:20260916T140000
LOCATION:ehem. Schule Hasloch: Am Witzpfad 1 a\, 97907 Hasloch
SEQUENCE:0
SUMMARY:Café für Alle
UID:8317
URL:https://www.hasloch.de/aktuelles/veranstaltungen/h-cafe-fuer-alle-14/
END:VEVENT
BEGIN:VEVENT
CATEGORIES:Allgemein
CATEGORIES:Sport
DESCRIPTION:\n\nVeranstalter: Wanderverein Hasselberg\n\nhttps://www.hasloc
 h.de/aktuelles/veranstaltungen/h-wanderverein-hasselberg-rotenburg-ad-fuld
 a-mit-anmeldung/
DTEND:20260927T000000
DTSTAMP:20260423T023142Z
DTSTART;VALUE=DATE:20260925
SEQUENCE:0
SUMMARY:Wanderverein Hasselberg: Rotenburg a.d. Fulda - mit Anmeldung
UID:18668
URL:https://www.hasloch.de/aktuelles/veranstaltungen/h-wanderverein-hasselb
 erg-rotenburg-ad-fulda-mit-anmeldung/
END:VEVENT
BEGIN:VEVENT
CATEGORIES:Soziales
DESCRIPTION:\n\nhttps://www.hasloch.de/aktuelles/veranstaltungen/h-cafe-fue
 r-alle-15/
DTEND:20260930T150000
DTSTAMP:20260423T023142Z
DTSTART:20260930T140000
LOCATION:ehem. Schule Hasloch: Am Witzpfad 1 a\, 97907 Hasloch
SEQUENCE:0
SUMMARY:Café für Alle
UID:8330
URL:https://www.hasloch.de/aktuelles/veranstaltungen/h-cafe-fuer-alle-15/
END:VEVENT
BEGIN:VEVENT
CATEGORIES:Sport
DESCRIPTION:\n\nVeranstalter: Turnverein "Gut Heil von 1903"\n\nhttps://www
 .hasloch.de/aktuelles/veranstaltungen/h-turnverein-gut-heil-von-1903-herbs
 tfest-vereinsmeisterschaften/
DTEND;VALUE=DATE:20261005
DTSTAMP:20260423T023142Z
DTSTART;VALUE=DATE:20261004
LOCATION:Haseltalhalle Hasloch: Am Witzpfad 1 b\, 97907 Hasloch
SEQUENCE:0
SUMMARY:Turnverein "Gut Heil von 1903": Herbstfest / Vereinsmeisterschaften
UID:8300
URL:https://www.hasloch.de/aktuelles/veranstaltungen/h-turnverein-gut-heil-
 von-1903-herbstfest-vereinsmeisterschaften/
END:VEVENT
BEGIN:VEVENT
CATEGORIES:Sport
CATEGORIES:Versammlungen
DESCRIPTION:\n\nVeranstalter: Wanderverein Hasselberg\n\nhttps://www.hasloc
 h.de/aktuelles/veranstaltungen/h-wanderverein-hasselberg-wanderplanaufstel
 lung-2027/
DTEND:20261007T203000
DTSTAMP:20260423T023142Z
DTSTART:20261007T193000
LOCATION:Hasselberger Hof: Rößweg 4\, 97907 Hasselberg
SEQUENCE:0
SUMMARY:Wanderverein Hasselberg: Wanderplanaufstellung 2027
UID:12419
URL:https://www.hasloch.de/aktuelles/veranstaltungen/h-wanderverein-hasselb
 erg-wanderplanaufstellung-2027/
END:VEVENT
BEGIN:VEVENT
CATEGORIES:Sport
DESCRIPTION:\n\nVeranstalter: Wanderverein Hasselberg\n\nhttps://www.hasloc
 h.de/aktuelles/veranstaltungen/h-wanderverein-hasselberg-pollaschwanderung
 -nur-der-vorstand/
DTEND;VALUE=DATE:20261012
DTSTAMP:20260423T023142Z
DTSTART;VALUE=DATE:20261011
SEQUENCE:0
SUMMARY:Wanderverein Hasselberg: Pollaschwanderung (nur der Vorstand)
UID:8302
URL:https://www.hasloch.de/aktuelles/veranstaltungen/h-wanderverein-hasselb
 erg-pollaschwanderung-nur-der-vorstand/
END:VEVENT
BEGIN:VEVENT
CATEGORIES:Kirche
CATEGORIES:Senioren
DESCRIPTION:\n\nVeranstalter: Evang.-Luth. Kirchengemeinde\n\nhttps://www.h
 asloch.de/aktuelles/veranstaltungen/h-ev-luth-kirchengemeinde-seniorennach
 mittag-11/
DTEND:20261013T150000
DTSTAMP:20260423T023142Z
DTSTART:20261013T140000
LOCATION:Ev. Gemeindehaus: Spessartstr. 1\, 97907 Hasloch
SEQUENCE:0
SUMMARY:Ev.-luth. Kirchengemeinde: Seniorennachmittag
UID:19090
URL:https://www.hasloch.de/aktuelles/veranstaltungen/h-ev-luth-kirchengemei
 nde-seniorennachmittag-11/
END:VEVENT
BEGIN:VEVENT
CATEGORIES:Soziales
DESCRIPTION:\n\nhttps://www.hasloch.de/aktuelles/veranstaltungen/h-cafe-fue
 r-alle-16/
DTEND:20261014T150000
DTSTAMP:20260423T023142Z
DTSTART:20261014T140000
LOCATION:ehem. Schule Hasloch: Am Witzpfad 1 a\, 97907 Hasloch
SEQUENCE:0
SUMMARY:Café für Alle
UID:9591
URL:https://www.hasloch.de/aktuelles/veranstaltungen/h-cafe-fuer-alle-16/
END:VEVENT
BEGIN:VEVENT
CATEGORIES:Allgemein
DESCRIPTION:\n\nVeranstalter: Wanderverein Hasselberg\n\nhttps://www.hasloc
 h.de/aktuelles/veranstaltungen/h-wanderverein-hasselberg-generalversammlun
 g/
DTEND:20261024T203000
DTSTAMP:20260423T023142Z
DTSTART:20261024T193000
LOCATION:Hasselberger Hof: Rößweg 4\, 97907 Hasselberg
SEQUENCE:0
SUMMARY:Wanderverein Hasselberg: Generalversammlung
UID:4920
URL:https://www.hasloch.de/aktuelles/veranstaltungen/h-wanderverein-hasselb
 erg-generalversammlung/
END:VEVENT
BEGIN:VEVENT
CATEGORIES:Soziales
DESCRIPTION:\n\nhttps://www.hasloch.de/aktuelles/veranstaltungen/h-cafe-fue
 r-alle-19/
DTEND:20261028T150000
DTSTAMP:20260423T023142Z
DTSTART:20261028T140000
LOCATION:ehem. Schule Hasloch: Am Witzpfad 1 a\, 97907 Hasloch
SEQUENCE:0
SUMMARY:Café für Alle
UID:9594
URL:https://www.hasloch.de/aktuelles/veranstaltungen/h-cafe-fuer-alle-19/
END:VEVENT
BEGIN:VEVENT
CATEGORIES:Sport
DESCRIPTION:\n\nVeranstalter: Wanderverein Hasselberg\n\nhttps://www.hasloc
 h.de/aktuelles/veranstaltungen/h-wanderverein-hasselberg-laternenwanderung
 /
DTEND:20261107T180000
DTSTAMP:20260423T023142Z
DTSTART:20261107T170000
SEQUENCE:0
SUMMARY:Wanderverein Hasselberg: Laternenwanderung 
UID:8156
URL:https://www.hasloch.de/aktuelles/veranstaltungen/h-wanderverein-hasselb
 erg-laternenwanderung/
END:VEVENT
BEGIN:VEVENT
CATEGORIES:Kirche
CATEGORIES:Senioren
DESCRIPTION:\n\nVeranstalter: Evang.-Luth. Kirchengemeinde\n\nhttps://www.h
 asloch.de/aktuelles/veranstaltungen/h-ev-luth-kirchengemeinde-seniorennach
 mittag-12/
DTEND:20261110T150000
DTSTAMP:20260423T023142Z
DTSTART:20261110T140000
LOCATION:Ev. Gemeindehaus: Spessartstr. 1\, 97907 Hasloch
SEQUENCE:0
SUMMARY:Ev.-luth. Kirchengemeinde: Seniorennachmittag
UID:19091
URL:https://www.hasloch.de/aktuelles/veranstaltungen/h-ev-luth-kirchengemei
 nde-seniorennachmittag-12/
END:VEVENT
BEGIN:VEVENT
CATEGORIES:Soziales
DESCRIPTION:\n\nhttps://www.hasloch.de/aktuelles/veranstaltungen/h-cafe-fue
 r-alle/
DTEND:20261111T150000
DTSTAMP:20260423T023142Z
DTSTART:20261111T140000
LOCATION:ehem. Schule Hasloch: Am Witzpfad 1 a\, 97907 Hasloch
SEQUENCE:0
SUMMARY:Café für Alle
UID:8101
URL:https://www.hasloch.de/aktuelles/veranstaltungen/h-cafe-fuer-alle/
END:VEVENT
BEGIN:VEVENT
CATEGORIES:Versammlungen
DESCRIPTION:\n\nVeranstalter: Freiwillige Feuerwehr Hasselberg\n\nhttps://w
 ww.hasloch.de/aktuelles/veranstaltungen/h-freiw-feuerwehr-hasselberg-jahre
 shauptversammlung/
DTEND:20261114T200000
DTSTAMP:20260423T023142Z
DTSTART:20261114T190000
SEQUENCE:0
SUMMARY:Freiw. Feuerwehr Hasselberg: Jahreshauptversammlung
UID:16591
URL:https://www.hasloch.de/aktuelles/veranstaltungen/h-freiw-feuerwehr-hass
 elberg-jahreshauptversammlung/
END:VEVENT
BEGIN:VEVENT
CATEGORIES:Soziales
DESCRIPTION:\n\nhttps://www.hasloch.de/aktuelles/veranstaltungen/h-cafe-fue
 r-alle-2/
DTEND:20261125T150000
DTSTAMP:20260423T023142Z
DTSTART:20261125T140000
LOCATION:ehem. Schule Hasloch: Am Witzpfad 1 a\, 97907 Hasloch
SEQUENCE:0
SUMMARY:Café für Alle
UID:8108
URL:https://www.hasloch.de/aktuelles/veranstaltungen/h-cafe-fuer-alle-2/
END:VEVENT
BEGIN:VEVENT
CATEGORIES:Kirche
CATEGORIES:Feiern\, Feste
DESCRIPTION:\n\nVeranstalter: Evang.-Luth. Kirchengemeinde\n\nhttps://www.h
 asloch.de/aktuelles/veranstaltungen/h-ev-luth-kirchengemeinde-hasloch-feie
 rt-advent/
DTEND:20261129T180000
DTSTAMP:20260423T023142Z
DTSTART:20261129T170000
LOCATION:St. Johannis Kirche
SEQUENCE:0
SUMMARY:Ev.-luth. Kirchengemeinde: Hasloch feiert Advent
UID:8323
URL:https://www.hasloch.de/aktuelles/veranstaltungen/h-ev-luth-kirchengemei
 nde-hasloch-feiert-advent/
END:VEVENT
BEGIN:VEVENT
CATEGORIES:Sport
DESCRIPTION:\n\nVeranstalter: Wanderverein Hasselberg\n\nhttps://www.hasloc
 h.de/aktuelles/veranstaltungen/h-wanderverein-hasselberg-nikolauswanderung
 -mit-anmeldung/
DTEND:20261205T170000
DTSTAMP:20260423T023142Z
DTSTART:20261205T160000
SEQUENCE:0
SUMMARY:Wanderverein Hasselberg: Nikolauswanderung (mit Anmeldung)
UID:9279
URL:https://www.hasloch.de/aktuelles/veranstaltungen/h-wanderverein-hasselb
 erg-nikolauswanderung-mit-anmeldung/
END:VEVENT
BEGIN:VEVENT
CATEGORIES:Senioren
DESCRIPTION:\n\nVeranstalter: Evang.-Luth. Kirchengemeinde\n\nhttps://www.h
 asloch.de/aktuelles/veranstaltungen/h-ev-luth-kirchengemeinde-adventssenio
 rennachmittag/
DTEND:20261208T150000
DTSTAMP:20260423T023142Z
DTSTART:20261208T140000
LOCATION:Ev. Gemeindehaus: Spessartstr. 1\, 97907 Hasloch
SEQUENCE:0
SUMMARY:Ev.-luth. Kirchengemeinde: Adventsseniorennachmittag
UID:9291
URL:https://www.hasloch.de/aktuelles/veranstaltungen/h-ev-luth-kirchengemei
 nde-adventsseniorennachmittag/
END:VEVENT
BEGIN:VEVENT
CATEGORIES:Soziales
DESCRIPTION:\n\nhttps://www.hasloch.de/aktuelles/veranstaltungen/h-cafe-fue
 r-alle-3/
DTEND:20261209T150000
DTSTAMP:20260423T023142Z
DTSTART:20261209T140000
LOCATION:ehem. Schule Hasloch: Am Witzpfad 1 a\, 97907 Hasloch
SEQUENCE:0
SUMMARY:Café für Alle
UID:8116
URL:https://www.hasloch.de/aktuelles/veranstaltungen/h-cafe-fuer-alle-3/
END:VEVENT
BEGIN:VEVENT
CATEGORIES:Sport
CATEGORIES:Versammlungen
DESCRIPTION:\n\nVeranstalter: Turnverein "Gut Heil von 1903"\n\nhttps://www
 .hasloch.de/aktuelles/veranstaltungen/h-turnverein-gut-heil-von-1903-weihn
 achtsfeier/
DTEND;VALUE=DATE:20261213
DTSTAMP:20260423T023142Z
DTSTART;VALUE=DATE:20261212
LOCATION:Haseltalhalle Hasloch: Am Witzpfad 1 b\, 97907 Hasloch
SEQUENCE:0
SUMMARY:Turnverein "Gut Heil von 1903": Weihnachtsfeier
UID:8327
URL:https://www.hasloch.de/aktuelles/veranstaltungen/h-turnverein-gut-heil-
 von-1903-weihnachtsfeier/
END:VEVENT
BEGIN:VEVENT
CATEGORIES:Allgemein
DESCRIPTION:Manfred-König-Schutzhütte\n\nVeranstalter: Wanderverein Hasselb
 erg\n\nhttps://www.hasloch.de/aktuelles/veranstaltungen/h-wanderverein-has
 selberg-holzhackermahlzeit-mit-anmeldung/
DTEND:20261229T123000
DTSTAMP:20260423T023142Z
DTSTART:20261229T113000
SEQUENCE:0
SUMMARY:Wanderverein Hasselberg: Holzhackermahlzeit - mit Anmeldung! 
UID:8332
URL:https://www.hasloch.de/aktuelles/veranstaltungen/h-wanderverein-hasselb
 erg-holzhackermahlzeit-mit-anmeldung/
END:VEVENT
END:VCALENDAR
