BEGIN:VCALENDAR
VERSION:2.0
PRODID:-//ddaysoftware.com//NONSGML DDay.iCal 1.0//EN
BEGIN:VTIMEZONE
TZID:W. Europe Standard Time
BEGIN:STANDARD
DTSTART:20251002T030000
RRULE:FREQ=YEARLY;BYDAY=-1SU;BYHOUR=3;BYMINUTE=0;BYMONTH=10
TZNAME:W. Europe Standard Time
TZOFFSETFROM:+0200
TZOFFSETTO:+0100
END:STANDARD
BEGIN:DAYLIGHT
DTSTART:20250301T020000
RRULE:FREQ=YEARLY;BYDAY=-1SU;BYHOUR=2;BYMINUTE=0;BYMONTH=3
TZNAME:W. Europe Daylight Time
TZOFFSETFROM:+0100
TZOFFSETTO:+0200
END:DAYLIGHT
END:VTIMEZONE
BEGIN:VEVENT
CATEGORIES:Allgemein
DESCRIPTION:Von engagierten Bürger für ALLE Bürger der Gemeinde Hasloch. Ei
 nfach mal vorbei kommen.\n\nhttps://www.hasloch.de/aktuelles/veranstaltung
 en/h-werkstatt-und-info-kaffee/
DTEND:20250321T180000
DTSTAMP:20260421T092446Z
DTSTART:20250321T160000
LOCATION:Vereinsheim in der alten Schule: Am Witzpfad 1 a\, 97907 Hasloch
SEQUENCE:0
SUMMARY:Werkstatt- und Info-Kaffee
UID:19175
URL:https://www.hasloch.de/aktuelles/veranstaltungen/h-werkstatt-und-info-k
 affee/
END:VEVENT
END:VCALENDAR
