BEGIN:VCALENDAR
VERSION:2.0
PRODID:-//ddaysoftware.com//NONSGML DDay.iCal 1.0//EN
BEGIN:VTIMEZONE
TZID:W. Europe Standard Time
BEGIN:STANDARD
DTSTART:20251002T030000
RRULE:FREQ=YEARLY;BYDAY=-1SU;BYHOUR=3;BYMINUTE=0;BYMONTH=10
TZNAME:W. Europe Standard Time
TZOFFSETFROM:+0200
TZOFFSETTO:+0100
END:STANDARD
BEGIN:DAYLIGHT
DTSTART:20250301T020000
RRULE:FREQ=YEARLY;BYDAY=-1SU;BYHOUR=2;BYMINUTE=0;BYMONTH=3
TZNAME:W. Europe Daylight Time
TZOFFSETFROM:+0100
TZOFFSETTO:+0200
END:DAYLIGHT
END:VTIMEZONE
BEGIN:VEVENT
CATEGORIES:Sport
CATEGORIES:Versammlungen
DESCRIPTION:\n\nVeranstalter: Turnverein "Gut Heil von 1903"\n\nhttps://www
 .hasloch.de/aktuelles/veranstaltungen/h-turnverein-gut-heil-von-1903-mitgl
 iederversammlung/
DTEND:20260322T190000
DTSTAMP:20260421T092124Z
DTSTART:20260322T180000
LOCATION:Feuerwehrhaus Hasloch: Am Witzpfad 1\, 97907 Hasloch
SEQUENCE:0
SUMMARY:Turnverein "Gut Heil von 1903": Mitgliederversammlung
UID:10948
URL:https://www.hasloch.de/aktuelles/veranstaltungen/h-turnverein-gut-heil-
 von-1903-mitgliederversammlung/
END:VEVENT
END:VCALENDAR
