BEGIN:VCALENDAR
VERSION:2.0
PRODID:-//ddaysoftware.com//NONSGML DDay.iCal 1.0//EN
BEGIN:VTIMEZONE
TZID:W. Europe Standard Time
BEGIN:STANDARD
DTSTART:20251002T030000
RRULE:FREQ=YEARLY;BYDAY=-1SU;BYHOUR=3;BYMINUTE=0;BYMONTH=10
TZNAME:W. Europe Standard Time
TZOFFSETFROM:+0200
TZOFFSETTO:+0100
END:STANDARD
BEGIN:DAYLIGHT
DTSTART:20250301T020000
RRULE:FREQ=YEARLY;BYDAY=-1SU;BYHOUR=2;BYMINUTE=0;BYMONTH=3
TZNAME:W. Europe Daylight Time
TZOFFSETFROM:+0100
TZOFFSETTO:+0200
END:DAYLIGHT
END:VTIMEZONE
BEGIN:VEVENT
CATEGORIES:Allgemein
DESCRIPTION:Voraussichtlich ist das Spielmobil der Kommunalen Jugendarbeit 
 Main-Spessart am 29.08.2022 zu Besuch in Hasloch.\n\nhttps://www.hasloch.d
 e/aktuelles/veranstaltungen/h-spielmobil-ferienaktion/
DTEND;VALUE=DATE:20220830
DTSTAMP:20260421T092723Z
DTSTART;VALUE=DATE:20220829
SEQUENCE:0
SUMMARY:Spielmobil Ferienaktion
UID:17970
URL:https://www.hasloch.de/aktuelles/veranstaltungen/h-spielmobil-ferienakt
 ion/
END:VEVENT
END:VCALENDAR
