BEGIN:VCALENDAR
VERSION:2.0
PRODID:-//ddaysoftware.com//NONSGML DDay.iCal 1.0//EN
BEGIN:VTIMEZONE
TZID:W. Europe Standard Time
BEGIN:STANDARD
DTSTART:20251002T030000
RRULE:FREQ=YEARLY;BYDAY=-1SU;BYHOUR=3;BYMINUTE=0;BYMONTH=10
TZNAME:W. Europe Standard Time
TZOFFSETFROM:+0200
TZOFFSETTO:+0100
END:STANDARD
BEGIN:DAYLIGHT
DTSTART:20250301T020000
RRULE:FREQ=YEARLY;BYDAY=-1SU;BYHOUR=2;BYMINUTE=0;BYMONTH=3
TZNAME:W. Europe Daylight Time
TZOFFSETFROM:+0100
TZOFFSETTO:+0200
END:DAYLIGHT
END:VTIMEZONE
BEGIN:VEVENT
CATEGORIES:Allgemein
DESCRIPTION:Anmeldung über die Gemeindebücherei.\n\nVeranstalter: Gemeindeb
 ücherei Hasloch\n\nhttps://www.hasloch.de/aktuelles/veranstaltungen/bueche
 rei-hasloch-hallenflohmarkt/
DTEND:20260328T110000
DTSTAMP:20260421T092647Z
DTSTART:20260328T100000
LOCATION:Haseltalhalle Hasloch: Am Witzpfad 1 b\, 97907 Hasloch
SEQUENCE:0
SUMMARY:Bücherei Hasloch: Hallenflohmarkt
UID:21584
URL:https://www.hasloch.de/aktuelles/veranstaltungen/buecherei-hasloch-hall
 enflohmarkt/
END:VEVENT
END:VCALENDAR
